BEGIN:VCALENDAR
VERSION:2.0
PRODID:-//Gowrie Training - ECPv4.9.12//NONSGML v1.0//EN
CALSCALE:GREGORIAN
METHOD:PUBLISH
X-WR-CALNAME:Gowrie Training
X-ORIGINAL-URL:https://www.gowrieconsultancy.com.au
X-WR-CALDESC:Events for Gowrie Training
BEGIN:VTIMEZONE
TZID:UTC
BEGIN:STANDARD
TZOFFSETFROM:+0000
TZOFFSETTO:+0000
TZNAME:UTC
DTSTART:20180101T000000
END:STANDARD
END:VTIMEZONE
BEGIN:VEVENT
DTSTART;TZID=UTC:20180222T093000
DTEND;TZID=UTC:20180222T113000
DTSTAMP:20200301T170556
CREATED:20180101T182913Z
LAST-MODIFIED:20180306T020957Z
UID:1782-1519291800-1519299000@www.gowrieconsultancy.com.au
SUMMARY:Visual supports with young children - Hobart SOLD OUT
DESCRIPTION:This session in SOLD OUT. Contact training@gowrie-tas.com.au to go on the waitlist. \nWhat are Visual Supports and how can educators use them within early childhood services to support all children. \nThis session facilitated by the Early Childhood Intervention Service (ECIS)\, will support educators to increase their understanding of visual supports and learn how to effectively implement the use of visual supports across all areas of daily program and practice. Embedding the use of visuals within your care environment supports not only children requiring additional needs but all children’s learning. \nA great 2 hour session with practical and visual ideas that will support educators\, leaders and teachers in their work with children and families. \nCost for this session: $20 (cost with GST & Eventbrite booking fees $23.97) \nFor further information contact: training@gowrie-tas.com.au  (03)62306824 \n Register Here\nTime: 9:30am – 11:30am \nVenue: 346 Macquarie Street (street parking only) \nFacilitator: Early Childhood Intervention Service   \n
URL:https://www.gowrieconsultancy.com.au/event/visual-supports-how-educators-can-use-these-with-children/
LOCATION:Lady Gowrie Integrated Child and Family Centre\, 346 Macquarie Street\, South Hobart\, Tasmania\, 7004\, Australia
ATTACH;FMTTYPE=image/jpeg:https://www.gowrieconsultancy.com.au/wp-content/uploads/2018/01/Visuals-1-1.jpg
END:VEVENT
END:VCALENDAR