BEGIN:VCALENDAR
VERSION:2.0
PRODID:-//Gowrie Training - ECPv4.9.12//NONSGML v1.0//EN
CALSCALE:GREGORIAN
METHOD:PUBLISH
X-WR-CALNAME:Gowrie Training
X-ORIGINAL-URL:https://www.gowrieconsultancy.com.au
X-WR-CALDESC:Events for Gowrie Training
BEGIN:VTIMEZONE
TZID:UTC
BEGIN:STANDARD
TZOFFSETFROM:+0000
TZOFFSETTO:+0000
TZNAME:UTC
DTSTART:20170101T000000
END:STANDARD
END:VTIMEZONE
BEGIN:VEVENT
DTSTART;TZID=UTC:20170905T093000
DTEND;TZID=UTC:20170905T120000
DTSTAMP:20200301T165430
CREATED:20170629T165620Z
LAST-MODIFIED:20171012T135241Z
UID:991-1504603800-1504612800@www.gowrieconsultancy.com.au
SUMMARY:The Risk of no Risk - North West
DESCRIPTION:A step by step approach to developing a risk-based program for school aged children \nFor so many of us playing outside in nature with no adults in sight and taking risks was an everyday part of our childhood. But what we once took for granted has changed to such an extreme that we are now seeing children spending more time indoors than any other time in history due to rapid urbanization\, increased screen time and a  growing culture of risk aversion\, with the over-protecting of children becoming more and more prominent throughout Australia. \nChildren  deserve and benefit from challenges and adventures that include risk. Their self-esteem grows\, along with their physical and mental abilities as they negotiate risk appropriate for their personality and development. \nWhether you are an educator\, manager or CEO\, there is a responsibility to develop strategies for school aged children to learn about  and experience risk. \nThis workshop will explore: \n\n why children need to take risks\nhow to support risk taking in OSHC\nadventurous play and learning\nadult’s roles and responsibilities\ndeveloping a Benefit Risk Assessment\nstrategies for bringing families\, managers\, schools and educators on board.\n\nFacilitator: Scott Gibson \nCost: $75 (+ GST) \n
URL:https://www.gowrieconsultancy.com.au/event/the-risk-of-no-risk-north-west/
LOCATION:North West\, 11 Queen Street\, Burnie\, Tasmania\, 7320\, Australia
ATTACH;FMTTYPE=image/jpeg:https://www.gowrieconsultancy.com.au/wp-content/uploads/2017/06/AdobeStock_75192609.jpeg
END:VEVENT
END:VCALENDAR