BEGIN:VCALENDAR
VERSION:2.0
PRODID:-//Gowrie Training - ECPv4.9.12//NONSGML v1.0//EN
CALSCALE:GREGORIAN
METHOD:PUBLISH
X-WR-CALNAME:Gowrie Training
X-ORIGINAL-URL:https://www.gowrieconsultancy.com.au
X-WR-CALDESC:Events for Gowrie Training
BEGIN:VTIMEZONE
TZID:UTC
BEGIN:STANDARD
TZOFFSETFROM:+0000
TZOFFSETTO:+0000
TZNAME:UTC
DTSTART:20180101T000000
END:STANDARD
END:VTIMEZONE
BEGIN:VEVENT
DTSTART;TZID=UTC:20180411T093000
DTEND;TZID=UTC:20180411T113000
DTSTAMP:20200301T170712
CREATED:20171121T193830Z
LAST-MODIFIED:20180415T203107Z
UID:1582-1523439000-1523446200@www.gowrieconsultancy.com.au
SUMMARY:Supporting young children presenting with anxiety - Hobart
DESCRIPTION:Would you like to know more about anxiety? \nDo you wonder about what this might look like in young children and how you can support them? \nThis 2 hour sessions will be facilitated by the University of Tasmania Psychology Clinic (UPC). \nThe UPC is a training clinic for provisionally registered psychologists who have completed four years of undergraduate study and are undertaking their postgraduate training in clinical psychology. \nParticipants attending these sessions will find out more about: \n\nWhat is anxiety?\nHow to identify early warning signs of anxiety in young children.\nStrategies to support early warning signs of anxiety in young children both in early childhood services and home settings.\nA range of community services and support for families who may wish to seek further guidance and support for their child.\nExploring daily practices within the early childhood services to support all children’s mental health and wellbeing.\n\nCost for this session: $20 (cost with GST & Eventbrite booking fees $23.97) \nFor further information contact: training@gowrie-tas.com.au  (03)62306824 \nRegister Here\n
URL:https://www.gowrieconsultancy.com.au/event/supporting-children-who-present-with-anxiety-in-early-childhood-south/
LOCATION:Lady Gowrie Integrated Child and Family Centre\, 346 Macquarie Street\, South Hobart\, Tasmania\, 7004\, Australia
ATTACH;FMTTYPE=image/jpeg:https://www.gowrieconsultancy.com.au/wp-content/uploads/2017/11/shutterstock_265875824.jpg
END:VEVENT
END:VCALENDAR