BEGIN:VCALENDAR
VERSION:2.0
PRODID:-//Gowrie Training - ECPv4.9.12//NONSGML v1.0//EN
CALSCALE:GREGORIAN
METHOD:PUBLISH
X-WR-CALNAME:Gowrie Training
X-ORIGINAL-URL:https://www.gowrieconsultancy.com.au
X-WR-CALDESC:Events for Gowrie Training
BEGIN:VTIMEZONE
TZID:UTC
BEGIN:STANDARD
TZOFFSETFROM:+0000
TZOFFSETTO:+0000
TZNAME:UTC
DTSTART:20180101T000000
END:STANDARD
END:VTIMEZONE
BEGIN:VEVENT
DTSTART;TZID=UTC:20180619T093000
DTEND;TZID=UTC:20180619T123000
DTSTAMP:20200301T170811
CREATED:20180426T172748Z
LAST-MODIFIED:20180712T013413Z
UID:2358-1529400600-1529411400@www.gowrieconsultancy.com.au
SUMMARY:STEAM in OSHC - Hobart
DESCRIPTION:Providing a platform for the innovators\, educators\, leaders and learners of the 21st century \nSTEAM is an educational approach to learning that uses Science\, Technology\, Engineering\, the Arts and Mathematics as access points for guiding children’s inquiry\, dialogue\, and critical thinking. The outcome of engagement in these areas are children who take thoughtful risks\, engage in experiential learning\, persist in problem-solving\, embrace collaboration\, and work through the creative process. \nThis workshop will allow participants to build knowledge and confidence by discovering the various ways of incorporating STEAM into everyday practice. A range of resources will be provided for participants\, allowing for experiential learning and embedding ideas through a hands on collaborative approach. \nWe will delve into the following: \n– reflections on prior experiences in STEAM\, does this restrict us or inspire us \n– importance of addressing STEAM in OSHC settings and what is the research telling us \n– providing experiences that promote children’s problem solving skills \n– resources required and where can these be obtained \n– creating engaging spaces that promote collaboration and investigation \n  \nFacilitator: Scott Gibson – scott.gibson@gowrie-tas.com.au \nCost for this session: $80 (cost with GST & Eventbrite booking fees $92.61) \nEventbrite Registration\n  \n
URL:https://www.gowrieconsultancy.com.au/event/steam-in-oshc-hobart/
LOCATION:Lady Gowrie Integrated Child and Family Centre\, 346 Macquarie Street\, South Hobart\, Tasmania\, 7004\, Australia
ATTACH;FMTTYPE=image/png:https://www.gowrieconsultancy.com.au/wp-content/uploads/2018/04/original.png
END:VEVENT
END:VCALENDAR