BEGIN:VCALENDAR
VERSION:2.0
PRODID:-//Gowrie Training - ECPv4.9.12//NONSGML v1.0//EN
CALSCALE:GREGORIAN
METHOD:PUBLISH
X-WR-CALNAME:Gowrie Training
X-ORIGINAL-URL:https://www.gowrieconsultancy.com.au
X-WR-CALDESC:Events for Gowrie Training
BEGIN:VTIMEZONE
TZID:UTC
BEGIN:STANDARD
TZOFFSETFROM:+0000
TZOFFSETTO:+0000
TZNAME:UTC
DTSTART:20170101T000000
END:STANDARD
END:VTIMEZONE
BEGIN:VEVENT
DTSTART;TZID=UTC:20170810T093000
DTEND;TZID=UTC:20170810T123000
DTSTAMP:20200301T170100
CREATED:20170629T170948Z
LAST-MODIFIED:20170829T212021Z
UID:1038-1502357400-1502368200@www.gowrieconsultancy.com.au
SUMMARY:Speech and Language - South
DESCRIPTION:This 3 hour session will support educators in their understanding of early speech and language development of young children. \nThe importance of providing language and literacy rich environments will be discussed and participants will have the opportunity to participate in various activities which support the development of speech and language skills in children of different ages. \nParticipants will gain insight into speech and language developmental milestones and practical ways to promote and support speech and language development. \nThis session will explore: \n\nDefinition of speech and language\nSpeech and language developmental milestones\nCreating a language and literacy rich environment\nStrategies and resources to support speech and language development of young children\n\n
URL:https://www.gowrieconsultancy.com.au/event/speech-and-language/
LOCATION:Lady Gowrie Integrated Child and Family Centre\, 346 Macquarie Street\, South Hobart\, Tasmania\, 7004\, Australia
ATTACH;FMTTYPE=image/jpeg:https://www.gowrieconsultancy.com.au/wp-content/uploads/2017/06/shutterstock_550686673-1-2.jpg
END:VEVENT
END:VCALENDAR