BEGIN:VCALENDAR
VERSION:2.0
PRODID:-//Gowrie Training - ECPv4.9.12//NONSGML v1.0//EN
CALSCALE:GREGORIAN
METHOD:PUBLISH
X-WR-CALNAME:Gowrie Training
X-ORIGINAL-URL:https://www.gowrieconsultancy.com.au
X-WR-CALDESC:Events for Gowrie Training
BEGIN:VTIMEZONE
TZID:UTC
BEGIN:STANDARD
TZOFFSETFROM:+0000
TZOFFSETTO:+0000
TZNAME:UTC
DTSTART:20190101T000000
END:STANDARD
END:VTIMEZONE
BEGIN:VEVENT
DTSTART;TZID=UTC:20190305T100000
DTEND;TZID=UTC:20190305T130000
DTSTAMP:20200301T171325
CREATED:20181220T201703Z
LAST-MODIFIED:20190227T210931Z
UID:3395-1551780000-1551790800@www.gowrieconsultancy.com.au
SUMMARY:Programming & Documentation OSHC - Hobart
DESCRIPTION:Capturing My Time\, Our Place in your space \n“Given that one of the most important reasons for documenting children’s learning is to inform our pedagogy or practice\, how do we connect what we know about children’s learning to what we do every day? How can we make sure there are direct links?” – Anne Stonehouse \n  \nA workshop that will support you to explore with your team what\, why and how of developing an effective OSHC program that supports the needs of children. \nWorkshop participants will consider: \n\nNQS expectations in relation to programming and documentation.\nKey components of the planning cycle & putting it into practice.\nQuality over quantity – practical tips on pedagogical documentation\n\nThis workshop will leave you with: \n\nfurther insight into My Time\, Our Place and bringing this to life.\nenhanced ability to document play and learning in meaningful ways.\na clear knowledge of how documentation underpins the delivery of OSHC settings.\nan understanding of how to create diverse programs that meet or exceed Quality Area 1 of the National Quality Standard.\n\n  \nWhen: Tuesday 5th March 2019 \nTimes: 10:00am – 1:00pm \nFacilitator: Scott Gibson \nCost: $90.00 (excl GST & admin fee) \n  \nREGISTRATION FORM HERE\n\nThe National Quality Standard: \nQA 1.1 The educational program enhances each child’s learning and development. \nQA 1.1.3 All aspects of the program\, including routines\, are organised in ways that maximize opportunities for each child’s learning. \nQA 1.2.1 Educators are deliberate\, purposeful\, and thoughtful in their decisions and actions. \nQA 1.3.2 Critical reflection on children’s learning and development\, both as individuals and in groups\, drives program planning and implementation. \n
URL:https://www.gowrieconsultancy.com.au/event/programming-documentation-in-oshc-hobart/
LOCATION:Lady Gowrie Integrated Child and Family Centre\, 346 Macquarie Street\, South Hobart\, Tasmania\, 7004\, Australia
CATEGORIES:Educators
ATTACH;FMTTYPE=image/jpeg:https://www.gowrieconsultancy.com.au/wp-content/uploads/2018/12/BW-Programming-and-documentation-in-OSHC-e1545341938698.jpg
END:VEVENT
END:VCALENDAR