BEGIN:VCALENDAR
VERSION:2.0
PRODID:-//Gowrie Training - ECPv4.9.12//NONSGML v1.0//EN
CALSCALE:GREGORIAN
METHOD:PUBLISH
X-WR-CALNAME:Gowrie Training
X-ORIGINAL-URL:https://www.gowrieconsultancy.com.au
X-WR-CALDESC:Events for Gowrie Training
BEGIN:VTIMEZONE
TZID:Europe/Paris
BEGIN:DAYLIGHT
TZOFFSETFROM:+0100
TZOFFSETTO:+0200
TZNAME:CEST
DTSTART:20190331T010000
END:DAYLIGHT
BEGIN:STANDARD
TZOFFSETFROM:+0200
TZOFFSETTO:+0100
TZNAME:CET
DTSTART:20191027T010000
END:STANDARD
END:VTIMEZONE
BEGIN:VEVENT
DTSTART;TZID=Europe/Paris:20191119T184500
DTEND;TZID=Europe/Paris:20191119T203000
DTSTAMP:20200301T165239
CREATED:20191022T012446Z
LAST-MODIFIED:20191101T001243Z
UID:5550-1574189100-1574195400@www.gowrieconsultancy.com.au
SUMMARY:OSHC Networking Group - North West
DESCRIPTION:Focus Topic: \nPractical Play Time  \nAfter a fantastic year with you all we are going to finish off with a bang where Scott will be providing a fun and practical workshop for you to learn new skills and build more understanding around delivering exciting and engaging experiences for school age children. \nWe will explore how to: \n– Incorporate STEM into our programs (including making and launching a bottle rocket) \n– Build willow bows and arrows (incorporating whittling with knives and using Pyrography tools to burn designs) \n– Make fire with flint \n– Develop printmaking skills through a variety of mediums \nOnce you’ve had an introduction to each of these experiences you will be free to explore at your own leisure – so let’s get another great turnout for this one! \nThis is the final Network Group meeting for the year and we hope to see you there! \n  \nFacilitator: Scott Gibson \nBooking prices are exclusive of GST \n November 19\, 2019 6:45 am - 8:30 am \n\n                \n                    \n                        \n                            \n                                                                Ticket Type\n                                                                Price\n                                                                    Qty.\n                                                                                                Cart\n                            \n                                                                \n                                                                                General Admission\n                                                                                $20\n                                                                                                                                    \n                            1\n                                2\n                                3\n                                4\n                                5\n                                6\n                                7\n                                8\n                                9\n                                10\n                                11\n                                12\n                                13\n                                14\n                                15\n                                16\n                                17\n                                18\n                                19\n                                20\n                                21\n                                22\n                                23\n                                24\n                                25\n                        \n        \n                                                                                Add to Cart\n                                    \n                                                            \n                    \n                \n\n                \n\n  \n
URL:https://www.gowrieconsultancy.com.au/event/oshc-networking-group-north-west-3/
LOCATION:Ulverstone Child Care Centre\, East Ulverstone Primary School\, Ulverstone\, Tasmania\, 7315\, Australia
CATEGORIES:Educators,Front Page
ATTACH;FMTTYPE=image/jpeg:https://www.gowrieconsultancy.com.au/wp-content/uploads/2019/07/a4cfe591-af0b-4e23-b154-2eb6bfa7e725-e1582080360385.jpg
END:VEVENT
END:VCALENDAR