BEGIN:VCALENDAR
VERSION:2.0
PRODID:-//Gowrie Training - ECPv4.9.12//NONSGML v1.0//EN
CALSCALE:GREGORIAN
METHOD:PUBLISH
X-WR-CALNAME:Gowrie Training
X-ORIGINAL-URL:https://www.gowrieconsultancy.com.au
X-WR-CALDESC:Events for Gowrie Training
BEGIN:VTIMEZONE
TZID:UTC
BEGIN:STANDARD
TZOFFSETFROM:+0000
TZOFFSETTO:+0000
TZNAME:UTC
DTSTART:20180101T000000
END:STANDARD
END:VTIMEZONE
BEGIN:VEVENT
DTSTART;TZID=UTC:20180924T093000
DTEND;TZID=UTC:20181120T153000
DTSTAMP:20200301T171011
CREATED:20180628T164300Z
LAST-MODIFIED:20181221T172938Z
UID:2611-1537781400-1542727800@www.gowrieconsultancy.com.au
SUMMARY:Marte Meo Practitioner Training - six day course
DESCRIPTION:A second opportunity to participate in Marte Meo Practitioner Training with Joy Elford \nMarte Meo International is a film-based interaction analysis program now implemented in 43 countries. Founded by Maria Aarts\, Netherlands\, Marte Meo derives from Latin\, meaning “one’s own strength”.\nThis is a method that has been implemented in a variety of professions including teaching\, health services\, psychology\, social services\, nursing\, and disability services. It is applicable to anyone who has a role which involves understanding children’s development and recognising the social and emotional elements of the developmental process to support children’s development in concrete and practical ways. \n\n  \nNOTE: This training occurs two consecutive days over three months  \nMonday 24th & Tuesday 25th September \nMonday 29th & Tuesday 30th October \nMonday 19th & Tuesday 20th November \n  \nCost including:\nSix days training with community of practice discussions between training days\nMarte Meo Practitioner Level Certificate\nLight lunch and refreshments\n$1090 (excl. GST) (Payment plans available) \nFor registration information go to https://www.gowrieconsultancy.com.au/new-second-round-of-marte-meo-six-day-training/ \nFor further information contact: kerrie.hansen@gowrie-tas.com.au or 03 62306824 \n
URL:https://www.gowrieconsultancy.com.au/event/marte-meo-practitioner-training-six-day-course/
LOCATION:Lady Gowrie Integrated Child and Family Centre\, 346 Macquarie Street\, South Hobart\, Tasmania\, 7004\, Australia
ATTACH;FMTTYPE=image/jpeg:https://www.gowrieconsultancy.com.au/wp-content/uploads/2018/04/shutterstock_464135480-e1545015058814.jpg
END:VEVENT
END:VCALENDAR