BEGIN:VCALENDAR
VERSION:2.0
PRODID:-//Gowrie Training - ECPv4.9.12//NONSGML v1.0//EN
CALSCALE:GREGORIAN
METHOD:PUBLISH
X-WR-CALNAME:Gowrie Training
X-ORIGINAL-URL:https://www.gowrieconsultancy.com.au
X-WR-CALDESC:Events for Gowrie Training
BEGIN:VTIMEZONE
TZID:Australia/Hobart
BEGIN:STANDARD
TZOFFSETFROM:+1100
TZOFFSETTO:+1000
TZNAME:AEST
DTSTART:20190406T160000
END:STANDARD
BEGIN:DAYLIGHT
TZOFFSETFROM:+1000
TZOFFSETTO:+1100
TZNAME:AEDT
DTSTART:20191005T160000
END:DAYLIGHT
END:VTIMEZONE
BEGIN:VEVENT
DTSTART;TZID=Australia/Hobart:20190717T183000
DTEND;TZID=Australia/Hobart:20190717T203000
DTSTAMP:20200301T165818
CREATED:20190606T005344Z
LAST-MODIFIED:20190709T034740Z
UID:4696-1563388200-1563395400@www.gowrieconsultancy.com.au
SUMMARY:Evolution of Play - Burnie
DESCRIPTION:Investigating play throughout time\n  \nInvestigate the theory and science behind play as the key learning and development component for children of all ages from infancy to school age. Through play children make sense of their world and their experiences\, try out ideas and gain the social\, emotional and communication skills that will support them throughout life. \nParticipants in this session will: \n\nReflect on the when\, what\, how and why of play\nLook at play for the contemporary child and family\nIdentify and understand play cues\, stages and skills to support children in their development.\n\n  \nFacilitator: Rebecca Hayes \n  \nBooking costs are exclusive GST \nJuly 17\, 2019 6:30 pm - 8:30 pm\n\n                \n                    \n                        \n                            \n                                                                Ticket Type\n                                                                Price\n                                                                    Qty.\n                                                                                                Cart\n                            \n                                                                \n                                                                                General Admission\n                                                                                $60\n                                                                                                                                    \n                            1\n                                2\n                                3\n                                4\n                                5\n                                6\n                                7\n                                8\n                                9\n                                10\n                                11\n                                12\n                                13\n                                14\n                                15\n                                16\n                                17\n                                18\n                                19\n                                20\n                                21\n                                22\n                                23\n                                24\n                                25\n                        \n        \n                                                                                Add to Cart\n                                    \n                                                            \n                    \n                \n\n                \n\n\nThe National Quality Standard: \nQA 1.2.2 Educators respond to children’s ideas and play and extend children’s learning through open-ended questions\, interactions and feedback. \nQA 3.2 The service environment is inclusive\, promotes competence and supports exploration and play-based learning. \n  \n
URL:https://www.gowrieconsultancy.com.au/event/evolution-of-play-burnie/
LOCATION:North West\, 11 Queen Street\, Burnie\, Tasmania\, 7320\, Australia
CATEGORIES:Educators,Front Page,Schools - Teachers
ATTACH;FMTTYPE=image/png:https://www.gowrieconsultancy.com.au/wp-content/uploads/2019/06/play-session-e1559816862319.png
END:VEVENT
END:VCALENDAR