BEGIN:VCALENDAR
VERSION:2.0
PRODID:-//Gowrie Training - ECPv4.9.12//NONSGML v1.0//EN
CALSCALE:GREGORIAN
METHOD:PUBLISH
X-WR-CALNAME:Gowrie Training
X-ORIGINAL-URL:https://www.gowrieconsultancy.com.au
X-WR-CALDESC:Events for Gowrie Training
BEGIN:VTIMEZONE
TZID:UTC
BEGIN:STANDARD
TZOFFSETFROM:+0000
TZOFFSETTO:+0000
TZNAME:UTC
DTSTART:20170101T000000
END:STANDARD
END:VTIMEZONE
BEGIN:VEVENT
DTSTART;TZID=UTC:20171019T183000
DTEND;TZID=UTC:20171019T200000
DTSTAMP:20200301T170258
CREATED:20170917T184509Z
LAST-MODIFIED:20171118T014552Z
UID:1339-1508437800-1508443200@www.gowrieconsultancy.com.au
SUMMARY:Dialogue on Pedagogy - South
DESCRIPTION:Are you interested in listening to individuals diverse experiences working within the education and care sector? \nWould you like to build on your knowledge and understanding of varying forms of pedagogy within a relaxed environment? \nFor this session we will be hearing from Ania Steele who runs her own Family Day Care business in North Hobart – Blossom Montessori Family Day Care. Based on the Montessori curriculum\, Ania’s vision is to nurture a generation of children who love learning\, empowering them to reach their potential with lifelong growth. \nWe are excited to be continuing this form of professional conversation with our Dialogue on Pedagogy sessions throughout 2017. \nParticipants will have the opportunity to listen to individuals stories working within the education and care sector\, sharing personal experiences\, exploring pedagogy and reflecting on theory into practice. \nIf you are passionate about a particular interest or story you would like to share\, please let us know by contacting kerrie.hansen@gowrie-tas.com.au we would love to have you on board. \nWine and nibbles will be provided for participants. \nRegister here\nFacilitator: Kerrie Hansen with Ania Steele \n
URL:https://www.gowrieconsultancy.com.au/event/dialogue-on-pedagogy-south/
LOCATION:Lady Gowrie Integrated Child and Family Centre\, 346 Macquarie Street\, South Hobart\, Tasmania\, 7004\, Australia
ATTACH;FMTTYPE=image/jpeg:https://www.gowrieconsultancy.com.au/wp-content/uploads/2017/09/Pedagogy-pic.jpg
END:VEVENT
END:VCALENDAR