BEGIN:VCALENDAR
VERSION:2.0
PRODID:-//Gowrie Training - ECPv4.9.12//NONSGML v1.0//EN
CALSCALE:GREGORIAN
METHOD:PUBLISH
X-WR-CALNAME:Gowrie Training
X-ORIGINAL-URL:https://www.gowrieconsultancy.com.au
X-WR-CALDESC:Events for Gowrie Training
BEGIN:VTIMEZONE
TZID:UTC
BEGIN:STANDARD
TZOFFSETFROM:+0000
TZOFFSETTO:+0000
TZNAME:UTC
DTSTART:20190101T000000
END:STANDARD
END:VTIMEZONE
BEGIN:VEVENT
DTSTART;TZID=UTC:20190221T183000
DTEND;TZID=UTC:20190221T200000
DTSTAMP:20200301T171217
CREATED:20181215T004323Z
LAST-MODIFIED:20190227T192336Z
UID:3312-1550773800-1550779200@www.gowrieconsultancy.com.au
SUMMARY:Dialogue on Pedagogy - Hobart
DESCRIPTION:Inspirational stories from our community \nOur Dialogue on Pedagogy 2018 series was a popular point of connection and exchange\, so is continuing in 2019. This series will open up opportunities to listen to reflections on innovative practice in a collegial environment and delve into pedagogical issues that matter. \nWine and nibbles will be offered to participants. \n  \nGuest Speaker for our first Dialogue on Pedagogy 2019: \nAnia Steele \n \nIt was a great evening held in 2017 when Ania shared her knowledge and interest in Montessori education. Ania Steele runs her own Family Day Care business in North Hobart – Blossom Montessori Family Day Care. Based on the Montessori curriculum\, Ania’s vision is to nurture a generation of children who love learning\, empowering them to reach their potential with lifelong growth. \nThis evening\, Ania will explore Montessori curriculum for the younger children (under 3 years). \nRegister today to hear about Montessori and join in conversations with Ania about her Family Day Care and pedagogy with children. \nCost: $30 (exclusive GST and booking fee) \n  \nREGISTRATION FORM HERE\n\nThe National Quality Standard Quality Area  \nQA 4.2.2 Professional standards guide practice\, interactions and relationships. \nQA 6.2.3 The service builds relationships and engages with its community. \nQA 7.2 Effective leadership builds and promotes a positive organisational culture and professional learning community. \n
URL:https://www.gowrieconsultancy.com.au/event/dialogue-on-pedagogy-2019/
LOCATION:Lady Gowrie Integrated Child and Family Centre\, 346 Macquarie Street\, South Hobart\, Tasmania\, 7004\, Australia
ATTACH;FMTTYPE=image/jpeg:https://www.gowrieconsultancy.com.au/wp-content/uploads/2018/12/Dialogue-on-Pedagogy-e1546384610740.jpg
END:VEVENT
END:VCALENDAR